Package: MPAC Version: 1.3.0 Command: rm -rf MPAC.buildbin-libdir && mkdir MPAC.buildbin-libdir && /Users/biocbuild/BBS/utils/build-universal.sh MPAC_1.3.0.tar.gz /Library/Frameworks/R.framework/Resources/bin/R MPAC.buildbin-libdir StartedAt: 2025-07-01 22:26:35 -0400 (Tue, 01 Jul 2025) EndedAt: 2025-07-01 22:26:50 -0400 (Tue, 01 Jul 2025) EllapsedTime: 14.3 seconds RetCode: 0 Status: OK PackageFile: MPAC_1.3.0.tgz PackageFileSize: 848.5 KiB