Package: MOSim Version: 2.5.0 Command: /home/biocbuild/R/R/bin/R CMD INSTALL MOSim StartedAt: 2025-07-17 21:11:38 -0000 (Thu, 17 Jul 2025) EndedAt: 2025-07-17 21:12:35 -0000 (Thu, 17 Jul 2025) EllapsedTime: 56.6 seconds RetCode: 0 Status: OK