Package: MOSim Version: 2.5.0 Command: /home/biocbuild/R/R/bin/R CMD check --install=check:MOSim.install-out.txt --library=/home/biocbuild/R/R/site-library --no-vignettes --timings MOSim_2.5.0.tar.gz StartedAt: 2025-07-18 08:50:51 -0000 (Fri, 18 Jul 2025) EndedAt: 2025-07-18 09:10:25 -0000 (Fri, 18 Jul 2025) EllapsedTime: 1174.6 seconds RetCode: 0 Status: WARNINGS CheckDir: MOSim.Rcheck Warnings: 1