Package: MOSClip Version: 1.3.2 Command: rm -rf MOSClip.buildbin-libdir && mkdir MOSClip.buildbin-libdir && F:\biocbuild\bbs-3.22-bioc\R\bin\R.exe CMD INSTALL --build --library=MOSClip.buildbin-libdir MOSClip_1.3.2.tar.gz StartedAt: 2025-07-02 09:20:21 -0400 (Wed, 02 Jul 2025) EndedAt: 2025-07-02 09:21:50 -0400 (Wed, 02 Jul 2025) EllapsedTime: 89.0 seconds RetCode: 0 Status: OK PackageFile: MOSClip_1.3.2.zip PackageFileSize: 1.547 MiB