Package: MOMA Version: 1.21.0 Command: F:\biocbuild\bbs-3.22-bioc\R\bin\R.exe CMD INSTALL MOMA StartedAt: 2025-07-24 16:13:54 -0400 (Thu, 24 Jul 2025) EndedAt: 2025-07-24 16:14:49 -0400 (Thu, 24 Jul 2025) EllapsedTime: 55.0 seconds RetCode: 0 Status: OK