Package: MOMA Version: 1.21.0 Command: /Library/Frameworks/R.framework/Resources/bin/R CMD INSTALL MOMA StartedAt: 2025-07-01 15:32:42 -0400 (Tue, 01 Jul 2025) EndedAt: 2025-07-01 15:33:27 -0400 (Tue, 01 Jul 2025) EllapsedTime: 44.4 seconds RetCode: 0 Status: OK