Package: MOMA Version: 1.21.0 Command: /Library/Frameworks/R.framework/Resources/bin/R CMD check --install=check:MOMA.install-out.txt --library=/Library/Frameworks/R.framework/Resources/library --no-vignettes --timings MOMA_1.21.0.tar.gz StartedAt: 2025-07-01 22:05:19 -0400 (Tue, 01 Jul 2025) EndedAt: 2025-07-01 22:09:11 -0400 (Tue, 01 Jul 2025) EllapsedTime: 231.6 seconds RetCode: 0 Status: OK CheckDir: MOMA.Rcheck Warnings: 0