Package: MOGAMUN Version: 1.19.0 Command: /home/biocbuild/R/R/bin/R CMD INSTALL MOGAMUN StartedAt: 2025-07-14 20:25:57 -0000 (Mon, 14 Jul 2025) EndedAt: 2025-07-14 20:26:07 -0000 (Mon, 14 Jul 2025) EllapsedTime: 9.7 seconds RetCode: 0 Status: OK