Package: MOFA2 Version: 1.19.0 Command: /home/biocbuild/R/R/bin/R CMD INSTALL MOFA2 StartedAt: 2025-10-06 20:53:12 -0000 (Mon, 06 Oct 2025) EndedAt: 2025-10-06 20:53:44 -0000 (Mon, 06 Oct 2025) EllapsedTime: 31.5 seconds RetCode: 0 Status: OK