Package: MOFA2 Version: 1.19.0 Command: rm -rf MOFA2.buildbin-libdir && mkdir MOFA2.buildbin-libdir && F:\biocbuild\bbs-3.22-bioc\R\bin\R.exe CMD INSTALL --build --library=MOFA2.buildbin-libdir MOFA2_1.19.0.tar.gz StartedAt: 2025-05-09 09:06:28 -0400 (Fri, 09 May 2025) EndedAt: 2025-05-09 09:07:33 -0400 (Fri, 09 May 2025) EllapsedTime: 65.1 seconds RetCode: 0 Status: OK PackageFile: MOFA2_1.19.0.zip PackageFileSize: 3.777 MiB