Package: MOFA2 Version: 1.19.0 Command: /home/biocbuild/bbs-3.22-bioc/R/bin/R CMD check --install=check:MOFA2.install-out.txt --library=/home/biocbuild/bbs-3.22-bioc/R/site-library --timings MOFA2_1.19.0.tar.gz StartedAt: 2025-10-04 01:48:18 -0400 (Sat, 04 Oct 2025) EndedAt: 2025-10-04 01:53:24 -0400 (Sat, 04 Oct 2025) EllapsedTime: 306.3 seconds RetCode: 0 Status: WARNINGS CheckDir: MOFA2.Rcheck Warnings: 1