Package: MOFA2 Version: 1.19.0 Command: /Library/Frameworks/R.framework/Resources/bin/R CMD INSTALL MOFA2 StartedAt: 2025-10-03 15:08:34 -0400 (Fri, 03 Oct 2025) EndedAt: 2025-10-03 15:08:43 -0400 (Fri, 03 Oct 2025) EllapsedTime: 9.2 seconds RetCode: 0 Status: OK