Package: MOFA2 Version: 1.19.0 Command: rm -rf MOFA2.buildbin-libdir && mkdir MOFA2.buildbin-libdir && /Users/biocbuild/BBS/utils/build-universal.sh MOFA2_1.19.0.tar.gz /Library/Frameworks/R.framework/Resources/bin/R MOFA2.buildbin-libdir StartedAt: 2025-05-08 23:21:19 -0400 (Thu, 08 May 2025) EndedAt: 2025-05-08 23:21:31 -0400 (Thu, 08 May 2025) EllapsedTime: 12.3 seconds RetCode: 0 Status: OK PackageFile: MOFA2_1.19.0.tgz PackageFileSize: 4.996 MiB