Package: MODA Version: 1.35.0 Command: F:\biocbuild\bbs-3.22-bioc\R\bin\R.exe CMD check --no-multiarch --install=check:MODA.install-out.txt --library=F:\biocbuild\bbs-3.22-bioc\R\library --no-vignettes --timings MODA_1.35.0.tar.gz StartedAt: 2025-07-22 04:15:01 -0400 (Tue, 22 Jul 2025) EndedAt: 2025-07-22 04:17:41 -0400 (Tue, 22 Jul 2025) EllapsedTime: 159.8 seconds RetCode: 0 Status: OK CheckDir: MODA.Rcheck Warnings: 0