Package: MODA Version: 1.35.0 Command: chmod a+r MODA -R && F:\biocbuild\bbs-3.22-bioc\R\bin\R.exe CMD build --keep-empty-dirs --no-resave-data MODA StartedAt: 2025-07-20 20:25:43 -0400 (Sun, 20 Jul 2025) EndedAt: 2025-07-20 20:25:46 -0400 (Sun, 20 Jul 2025) EllapsedTime: 3.2 seconds RetCode: 0 Status: OK PackageFile: MODA_1.35.0.tar.gz PackageFileSize: 296.2 KiB