Package: MODA Version: 1.35.0 Command: rm -rf MODA.buildbin-libdir && mkdir MODA.buildbin-libdir && F:\biocbuild\bbs-3.22-bioc\R\bin\R.exe CMD INSTALL --build --library=MODA.buildbin-libdir MODA_1.35.0.tar.gz StartedAt: 2025-07-21 09:30:17 -0400 (Mon, 21 Jul 2025) EndedAt: 2025-07-21 09:30:41 -0400 (Mon, 21 Jul 2025) EllapsedTime: 24.8 seconds RetCode: 0 Status: OK PackageFile: MODA_1.35.0.zip PackageFileSize: 360.8 KiB