Package: MMUPHin Version: 1.23.0 Command: chmod a+r MMUPHin -R && F:\biocbuild\bbs-3.22-bioc\R\bin\R.exe CMD build --keep-empty-dirs --no-resave-data MMUPHin StartedAt: 2025-07-24 20:39:00 -0400 (Thu, 24 Jul 2025) EndedAt: 2025-07-24 20:40:50 -0400 (Thu, 24 Jul 2025) EllapsedTime: 109.9 seconds RetCode: 0 Status: OK PackageFile: MMUPHin_1.23.0.tar.gz PackageFileSize: 3.376 MiB