Package: MMUPHin Version: 1.23.0 Command: /Library/Frameworks/R.framework/Resources/bin/R CMD build --keep-empty-dirs --no-resave-data MMUPHin StartedAt: 2025-07-13 16:56:00 -0400 (Sun, 13 Jul 2025) EndedAt: 2025-07-13 16:56:28 -0400 (Sun, 13 Jul 2025) EllapsedTime: 28.3 seconds RetCode: 0 Status: OK PackageFile: MMUPHin_1.23.0.tar.gz PackageFileSize: 3.561 MiB