Package: MLInterfaces Version: 1.89.0 Command: /home/biocbuild/R/R/bin/R CMD check --install=check:MLInterfaces.install-out.txt --library=/home/biocbuild/R/R/site-library --no-vignettes --timings MLInterfaces_1.89.0.tar.gz StartedAt: 2025-07-11 10:08:40 -0000 (Fri, 11 Jul 2025) EndedAt: 2025-07-11 10:13:02 -0000 (Fri, 11 Jul 2025) EllapsedTime: 262.2 seconds RetCode: 0 Status: WARNINGS CheckDir: MLInterfaces.Rcheck Warnings: 1