Package: MLInterfaces Version: 1.89.0 Command: F:\biocbuild\bbs-3.22-bioc\R\bin\R.exe CMD INSTALL MLInterfaces StartedAt: 2025-06-29 16:07:50 -0400 (Sun, 29 Jun 2025) EndedAt: 2025-06-29 16:09:05 -0400 (Sun, 29 Jun 2025) EllapsedTime: 74.5 seconds RetCode: 0 Status: OK