Package: MLInterfaces Version: 1.89.0 Command: chmod a+r MLInterfaces -R && F:\biocbuild\bbs-3.22-bioc\R\bin\R.exe CMD build --keep-empty-dirs --no-resave-data MLInterfaces StartedAt: 2025-06-29 20:23:19 -0400 (Sun, 29 Jun 2025) EndedAt: 2025-06-29 20:25:20 -0400 (Sun, 29 Jun 2025) EllapsedTime: 120.4 seconds RetCode: 0 Status: OK PackageFile: MLInterfaces_1.89.0.tar.gz PackageFileSize: 1.211 MiB