Package: MLInterfaces Version: 1.89.0 Command: /Library/Frameworks/R.framework/Resources/bin/R CMD check --install=check:MLInterfaces.install-out.txt --library=/Library/Frameworks/R.framework/Resources/library --no-vignettes --timings MLInterfaces_1.89.0.tar.gz StartedAt: 2025-07-01 22:03:00 -0400 (Tue, 01 Jul 2025) EndedAt: 2025-07-01 22:06:53 -0400 (Tue, 01 Jul 2025) EllapsedTime: 232.4 seconds RetCode: 0 Status: WARNINGS CheckDir: MLInterfaces.Rcheck Warnings: 1