Package: MIRit Version: 1.5.1 Command: /home/biocbuild/R/R/bin/R CMD check --install=check:MIRit.install-out.txt --library=/home/biocbuild/R/R/site-library --no-vignettes --timings MIRit_1.5.1.tar.gz StartedAt: 2025-07-01 09:21:31 -0000 (Tue, 01 Jul 2025) EndedAt: 2025-07-01 09:26:18 -0000 (Tue, 01 Jul 2025) EllapsedTime: 287.3 seconds RetCode: 0 Status: OK CheckDir: MIRit.Rcheck Warnings: 0