Package: MICSQTL Version: 1.7.0 Command: chmod a+r MICSQTL -R && F:\biocbuild\bbs-3.22-bioc\R\bin\R.exe CMD build --keep-empty-dirs --no-resave-data MICSQTL StartedAt: 2025-07-22 20:21:10 -0400 (Tue, 22 Jul 2025) EndedAt: 2025-07-22 20:22:41 -0400 (Tue, 22 Jul 2025) EllapsedTime: 90.2 seconds RetCode: 0 Status: OK PackageFile: MICSQTL_1.7.0.tar.gz PackageFileSize: 3.085 MiB