Package: MICSQTL Version: 1.7.0 Command: /Library/Frameworks/R.framework/Resources/bin/R CMD build --keep-empty-dirs --no-resave-data MICSQTL StartedAt: 2025-07-13 16:53:23 -0400 (Sun, 13 Jul 2025) EndedAt: 2025-07-13 16:53:47 -0400 (Sun, 13 Jul 2025) EllapsedTime: 24.2 seconds RetCode: 0 Status: OK PackageFile: MICSQTL_1.7.0.tar.gz PackageFileSize: 3.085 MiB