Package: MICSQTL Version: 1.7.0 Command: rm -rf MICSQTL.buildbin-libdir && mkdir MICSQTL.buildbin-libdir && /Users/biocbuild/BBS/utils/build-universal.sh MICSQTL_1.7.0.tar.gz /Library/Frameworks/R.framework/Resources/bin/R MICSQTL.buildbin-libdir StartedAt: 2025-07-13 22:23:33 -0400 (Sun, 13 Jul 2025) EndedAt: 2025-07-13 22:23:46 -0400 (Sun, 13 Jul 2025) EllapsedTime: 12.2 seconds RetCode: 0 Status: OK PackageFile: MICSQTL_1.7.0.tgz PackageFileSize: 2.644 MiB