Package: MGnifyR Version: 1.5.0 Command: /Library/Frameworks/R.framework/Resources/bin/R CMD check --install=check:MGnifyR.install-out.txt --library=/Library/Frameworks/R.framework/Resources/library --no-vignettes --timings MGnifyR_1.5.0.tar.gz StartedAt: 2025-07-07 20:04:56 -0400 (Mon, 07 Jul 2025) EndedAt: 2025-07-07 20:13:49 -0400 (Mon, 07 Jul 2025) EllapsedTime: 533.4 seconds RetCode: 0 Status: OK CheckDir: MGnifyR.Rcheck Warnings: 0