Package: MGFR Version: 1.35.0 Command: /home/biocbuild/bbs-3.22-bioc/R/bin/R CMD INSTALL MGFR StartedAt: 2025-07-07 15:26:46 -0400 (Mon, 07 Jul 2025) EndedAt: 2025-07-07 15:27:00 -0400 (Mon, 07 Jul 2025) EllapsedTime: 14.5 seconds RetCode: 0 Status: OK