Package: MGFR Version: 1.35.0 Command: /home/biocbuild/bbs-3.22-bioc/R/bin/R CMD check --install=check:MGFR.install-out.txt --library=/home/biocbuild/bbs-3.22-bioc/R/site-library --timings MGFR_1.35.0.tar.gz StartedAt: 2025-07-08 00:00:08 -0400 (Tue, 08 Jul 2025) EndedAt: 2025-07-08 00:02:15 -0400 (Tue, 08 Jul 2025) EllapsedTime: 127.1 seconds RetCode: 0 Status: OK CheckDir: MGFR.Rcheck Warnings: 0