Package: MGFR Version: 1.35.0 Command: /home/biocbuild/bbs-3.22-bioc/R/bin/R CMD build --keep-empty-dirs --no-resave-data --md5 MGFR StartedAt: 2025-07-07 18:03:15 -0400 (Mon, 07 Jul 2025) EndedAt: 2025-07-07 18:03:45 -0400 (Mon, 07 Jul 2025) EllapsedTime: 30.0 seconds RetCode: 0 Status: OK PackageFile: MGFR_1.35.0.tar.gz PackageFileSize: 1.825 MiB