Package: MGFR Version: 1.35.0 Command: /Library/Frameworks/R.framework/Resources/bin/R CMD INSTALL MGFR StartedAt: 2025-07-24 15:35:08 -0400 (Thu, 24 Jul 2025) EndedAt: 2025-07-24 15:35:28 -0400 (Thu, 24 Jul 2025) EllapsedTime: 20.4 seconds RetCode: 0 Status: OK