Package: MGFR Version: 1.35.0 Command: /Library/Frameworks/R.framework/Resources/bin/R CMD INSTALL MGFR StartedAt: 2025-07-21 15:09:20 -0400 (Mon, 21 Jul 2025) EndedAt: 2025-07-21 15:09:27 -0400 (Mon, 21 Jul 2025) EllapsedTime: 6.8 seconds RetCode: 0 Status: OK