Package: MGFR Version: 1.35.0 Command: /Library/Frameworks/R.framework/Resources/bin/R CMD build --keep-empty-dirs --no-resave-data MGFR StartedAt: 2025-07-21 16:52:49 -0400 (Mon, 21 Jul 2025) EndedAt: 2025-07-21 16:53:07 -0400 (Mon, 21 Jul 2025) EllapsedTime: 18.2 seconds RetCode: 0 Status: OK PackageFile: MGFR_1.35.0.tar.gz PackageFileSize: 1.824 MiB