Package: MGFR Version: 1.35.0 Command: rm -rf MGFR.buildbin-libdir && mkdir MGFR.buildbin-libdir && /Users/biocbuild/BBS/utils/build-universal.sh MGFR_1.35.0.tar.gz /Library/Frameworks/R.framework/Resources/bin/R MGFR.buildbin-libdir StartedAt: 2025-07-21 22:31:49 -0400 (Mon, 21 Jul 2025) EndedAt: 2025-07-21 22:31:57 -0400 (Mon, 21 Jul 2025) EllapsedTime: 7.1 seconds RetCode: 0 Status: OK PackageFile: MGFR_1.35.0.tgz PackageFileSize: 2.64 MiB