Package: MGFM Version: 1.43.0 Command: chmod a+r MGFM -R && F:\biocbuild\bbs-3.22-bioc\R\bin\R.exe CMD build --keep-empty-dirs --no-resave-data MGFM StartedAt: 2025-08-14 21:26:38 -0400 (Thu, 14 Aug 2025) EndedAt: 2025-08-14 21:27:15 -0400 (Thu, 14 Aug 2025) EllapsedTime: 37.3 seconds RetCode: 0 Status: OK PackageFile: MGFM_1.43.0.tar.gz PackageFileSize: 3.301 MiB