Package: MEIGOR Version: 1.45.0 Command: /home/biocbuild/bbs-3.23-bioc/R/bin/R CMD build --keep-empty-dirs --no-resave-data MEIGOR StartedAt: 2025-11-14 18:29:44 -0500 (Fri, 14 Nov 2025) EndedAt: 2025-11-14 18:30:31 -0500 (Fri, 14 Nov 2025) EllapsedTime: 47.1 seconds RetCode: 0 Status: OK PackageFile: MEIGOR_1.45.0.tar.gz PackageFileSize: 1.564 MiB