Package: MEIGOR Version: 1.45.0 Command: /Library/Frameworks/R.framework/Resources/bin/R CMD check --install=check:MEIGOR.install-out.txt --library=/Library/Frameworks/R.framework/Resources/library --no-vignettes --timings MEIGOR_1.45.0.tar.gz StartedAt: 2025-11-14 20:48:45 -0500 (Fri, 14 Nov 2025) EndedAt: 2025-11-14 20:49:38 -0500 (Fri, 14 Nov 2025) EllapsedTime: 53.6 seconds RetCode: 0 Status: OK CheckDir: MEIGOR.Rcheck Warnings: 0