Package: MEDME Version: 1.69.0 Command: /home/biocbuild/R/R/bin/R CMD INSTALL MEDME StartedAt: 2025-07-24 21:35:11 -0000 (Thu, 24 Jul 2025) EndedAt: 2025-07-24 21:35:30 -0000 (Thu, 24 Jul 2025) EllapsedTime: 19.2 seconds RetCode: 0 Status: OK