Package: MEDME Version: 1.69.0 Command: /home/biocbuild/R/R/bin/R CMD build --keep-empty-dirs --no-resave-data MEDME StartedAt: 2025-07-25 01:47:22 -0000 (Fri, 25 Jul 2025) EndedAt: 2025-07-25 01:47:47 -0000 (Fri, 25 Jul 2025) EllapsedTime: 25.0 seconds RetCode: 1 Status: ERROR PackageFile: None PackageFileSize: NA