Package: MEDME Version: 1.69.0 Command: F:\biocbuild\bbs-3.22-bioc\R\bin\R.exe CMD check --no-multiarch --install=check:MEDME.install-out.txt --library=F:\biocbuild\bbs-3.22-bioc\R\library --no-vignettes --timings MEDME_1.69.0.tar.gz StartedAt: 2025-07-14 03:41:08 -0400 (Mon, 14 Jul 2025) EndedAt: 2025-07-14 03:43:36 -0400 (Mon, 14 Jul 2025) EllapsedTime: 148.0 seconds RetCode: 0 Status: WARNINGS CheckDir: MEDME.Rcheck Warnings: 1