Package: MEDME Version: 1.69.0 Command: /Library/Frameworks/R.framework/Resources/bin/R CMD INSTALL MEDME StartedAt: 2025-07-22 15:17:00 -0400 (Tue, 22 Jul 2025) EndedAt: 2025-07-22 15:17:06 -0400 (Tue, 22 Jul 2025) EllapsedTime: 5.9 seconds RetCode: 0 Status: OK