Package: MEDME Version: 1.69.0 Command: /Library/Frameworks/R.framework/Resources/bin/R CMD check --install=check:MEDME.install-out.txt --library=/Library/Frameworks/R.framework/Resources/library --no-vignettes --timings MEDME_1.69.0.tar.gz StartedAt: 2025-07-22 20:03:14 -0400 (Tue, 22 Jul 2025) EndedAt: 2025-07-22 20:04:04 -0400 (Tue, 22 Jul 2025) EllapsedTime: 49.5 seconds RetCode: 0 Status: WARNINGS CheckDir: MEDME.Rcheck Warnings: 1