Package: MEDME Version: 1.69.0 Command: /Library/Frameworks/R.framework/Resources/bin/R CMD build --keep-empty-dirs --no-resave-data MEDME StartedAt: 2025-07-22 16:48:18 -0400 (Tue, 22 Jul 2025) EndedAt: 2025-07-22 16:48:36 -0400 (Tue, 22 Jul 2025) EllapsedTime: 17.2 seconds RetCode: 0 Status: OK PackageFile: MEDME_1.69.0.tar.gz PackageFileSize: 448 KiB