Package: MEB Version: 1.23.0 Command: /home/biocbuild/R/R/bin/R CMD build --keep-empty-dirs --no-resave-data MEB StartedAt: 2025-10-03 01:06:25 -0000 (Fri, 03 Oct 2025) EndedAt: 2025-10-03 01:07:27 -0000 (Fri, 03 Oct 2025) EllapsedTime: 62.0 seconds RetCode: 0 Status: OK PackageFile: MEB_1.23.0.tar.gz PackageFileSize: 1.202 MiB