Package: MEB Version: 1.23.0 Command: F:\biocbuild\bbs-3.22-bioc\R\bin\R.exe CMD check --no-multiarch --install=check:MEB.install-out.txt --library=F:\biocbuild\bbs-3.22-bioc\R\library --no-vignettes --timings MEB_1.23.0.tar.gz StartedAt: 2025-07-01 03:39:19 -0400 (Tue, 01 Jul 2025) EndedAt: 2025-07-01 03:43:10 -0400 (Tue, 01 Jul 2025) EllapsedTime: 230.9 seconds RetCode: 0 Status: OK CheckDir: MEB.Rcheck Warnings: 0