Package: MEB Version: 1.23.0 Command: /Library/Frameworks/R.framework/Resources/bin/R CMD build --keep-empty-dirs --no-resave-data MEB StartedAt: 2025-07-11 17:28:20 -0400 (Fri, 11 Jul 2025) EndedAt: 2025-07-11 17:29:11 -0400 (Fri, 11 Jul 2025) EllapsedTime: 51.5 seconds RetCode: 0 Status: OK PackageFile: MEB_1.23.0.tar.gz PackageFileSize: 1.178 MiB