Package: MEB Version: 1.23.0 Command: rm -rf MEB.buildbin-libdir && mkdir MEB.buildbin-libdir && /Users/biocbuild/BBS/utils/build-universal.sh MEB_1.23.0.tar.gz /Library/Frameworks/R.framework/Resources/bin/R MEB.buildbin-libdir StartedAt: 2025-07-12 01:04:10 -0400 (Sat, 12 Jul 2025) EndedAt: 2025-07-12 01:04:50 -0400 (Sat, 12 Jul 2025) EllapsedTime: 40.5 seconds RetCode: 0 Status: OK PackageFile: MEB_1.23.0.tgz PackageFileSize: 1.444 MiB