Package: MEB Version: 1.23.0 Command: /Library/Frameworks/R.framework/Resources/bin/R CMD INSTALL MEB StartedAt: 2025-07-14 15:29:10 -0400 (Mon, 14 Jul 2025) EndedAt: 2025-07-14 15:29:22 -0400 (Mon, 14 Jul 2025) EllapsedTime: 12.3 seconds RetCode: 0 Status: OK