Package: MEAT Version: 1.21.0 Command: /home/biocbuild/R/R/bin/R CMD build --keep-empty-dirs --no-resave-data MEAT StartedAt: 2025-07-25 01:47:16 -0000 (Fri, 25 Jul 2025) EndedAt: 2025-07-25 01:49:03 -0000 (Fri, 25 Jul 2025) EllapsedTime: 107.1 seconds RetCode: 0 Status: OK PackageFile: MEAT_1.21.0.tar.gz PackageFileSize: 4.974 MiB