Package: MEAL Version: 1.39.0 Command: F:\biocbuild\bbs-3.22-bioc\R\bin\R.exe CMD INSTALL MEAL StartedAt: 2025-07-22 17:11:38 -0400 (Tue, 22 Jul 2025) EndedAt: 2025-07-22 17:12:22 -0400 (Tue, 22 Jul 2025) EllapsedTime: 44.1 seconds RetCode: 0 Status: OK